BEGIN:VCALENDAR
VERSION:2.0
PRODID:-//Hi&#039;Vibes - Kálmán Éva - ECPv6.15.20//NONSGML v1.0//EN
CALSCALE:GREGORIAN
METHOD:PUBLISH
X-ORIGINAL-URL:https://hivibes.hu
X-WR-CALDESC:Események Hi&#039;Vibes - Kálmán Éva
REFRESH-INTERVAL;VALUE=DURATION:PT1H
X-Robots-Tag:noindex
X-PUBLISHED-TTL:PT1H
BEGIN:VTIMEZONE
TZID:UTC
BEGIN:STANDARD
TZOFFSETFROM:+0000
TZOFFSETTO:+0000
TZNAME:UTC
DTSTART:20240101T000000
END:STANDARD
END:VTIMEZONE
BEGIN:VEVENT
DTSTART;TZID=UTC:20251213T100000
DTEND;TZID=UTC:20251213T110000
DTSTAMP:20260419T130516
CREATED:20251211T085102Z
LAST-MODIFIED:20251211T085102Z
UID:10000028-1765620000-1765623600@hivibes.hu
SUMMARY:Garáb\, óriásgongos\, kristálytálas hangutazás a Shambala szentélyben
DESCRIPTION:Egyedi élménnyel\, és- a lehető legteljesebb hatás érdekében – két hangtálkezelővel várunk szeretettel a Shambala hangutazáson.\nHa a gongok és a sámándobok átalakító élményére vágysz\, akkor vegyél részt ezen a négykezes\, igazi térhatású; rezgésekkel körbeölelő hangfürdőn. Olyan eszközöket szólaltatunk meg\, amelyek sehol máshol nem találhatók\, és különösen nem egy térben. Itt a hangok valóban körbevesznek. A Grotta Sonora legnagyobb és talán legszebb gongja is meg fog szólalni\, tibeti hangtálak\, kristály hangtálak\, gongdobok\, óceándob\, esőoszlop\, és egy másik különleges energiájú óriás táltosdob társaságában.\nKetten egyidőben sok csodás hangot és rezgést tudunk létrehozni a térben\, hogy valóban körülöleljenek a hangok és megmártózz az univerzum rezgéseiben. \nGyere el hozzánk egy felejthetetlen hangutazásra\, ahol a hangok és rezgések harmóniája elrepít a mindennapokból. Élvezd a Shambala hangutazás minden pillanatát\, és töltsd fel tested-lelked energiával. \nOlvass a tovább a Shambala hangutazásról\, és nézz be a Shambala térbe! 
URL:https://hivibes.hu/esemeny/garab-oriasgongos-kristalytalas-hangutazas-a-shambala-szentelyben-2025/
LOCATION:Samsara szentély\, Petőfi utca 41\, Garáb\, 3067\, Hungary
ATTACH;FMTTYPE=image/jpeg:https://hivibes.hu/wp-content/uploads/2025/10/shambala-szentely-belso-ter.jpg
END:VEVENT
BEGIN:VEVENT
DTSTART;TZID=UTC:20251213T100000
DTEND;TZID=UTC:20251213T140000
DTSTAMP:20260419T130516
CREATED:20251211T085330Z
LAST-MODIFIED:20251211T100222Z
UID:10000029-1765620000-1765634400@hivibes.hu
SUMMARY:Duál hangfürdő (Samsara és Shambala egymás után\, közte idegenvezetés is beiktatható)
DESCRIPTION:Ez az esemény a Duál hangfürdők sorozat része\n🜂\nKét szentély\, egy megtapasztalás A duál hangfürdő különlegessége\, hogy egyszerre kapcsolja össze a Samsara és a Shambala szentély energiáit.Mindkét tér önmagában is teljes\, de amikor egymásra hangolódnak\, az élmény hatványozottá válik. A hangok és rezgések olyan mély szinteket érintenek\, ahol a test\, a lélek és a tudat egyaránt újrahangolódik. \n\n🜄\nA hangok egységeA Samsara óriás hangtáljainak mély\, földelő rezgései és a Shambala gongjainak\, kristálytálainak fényes hangjai egy különleges ívet rajzolnak a két tér között.Az első hangfürdő elindítja a folyamatot\, a második pedig kiteljesíti azt — mintha maga az univerzum zengene össze benned. \n\n🜃\nEgy nap\, ami minden érzékszervedet átöleliA duál hangfürdőkön nemcsak a hangélmény lesz teljes: a két szentély látványa\, atmoszférája\, és a kettő közti séta is része a megélésnek.Ha a két hangfürdő között kertlátogatást is teszel\, egy valódi testet\, lelket és elmét tápláló napban lesz részed.
URL:https://hivibes.hu/esemeny/dual-hangfurdo-samsara-es-shambala-egymas-utan-kozte-idegenvezetes-is-beiktathato-2025-12-13/
CATEGORIES:Duál hangfürdő
ATTACH;FMTTYPE=image/jpeg:https://hivibes.hu/wp-content/uploads/2025/11/dual-hangfurdo-garab.jpg
END:VEVENT
BEGIN:VEVENT
DTSTART;TZID=UTC:20251213T123000
DTEND;TZID=UTC:20251213T140000
DTSTAMP:20260419T130516
CREATED:20251211T094329Z
LAST-MODIFIED:20251211T095007Z
UID:10000030-1765629000-1765634400@hivibes.hu
SUMMARY:Csoportos Samsara hangfürdő a világ legnagyobb hangtáljával
DESCRIPTION:Ez az esemény a Samsara hangtálas hangfürdők sorozat része\n🕉️\nA világ legnagyobb hangtáljaA Samsara hangtál közel 2\,5 méter átmérőjű\, és a világ jelenlegi legnagyobb hangtáljaként egyedülálló élményt kínál. Mély\, földelő rezgései átjárják a testet\, támogatva a sejtszintű regenerációt és az energetikai egyensúlyt. \n\n🌿\nEgyedülálló élmény GarábonA hangtálas hangfürdő nemcsak relaxáció\, hanem tudatos rezgésterápia is. A versenyharangok\, kiegészítő hangszerek és a csend együttese segít\, hogy lelassulj\, újrahangold magad\, és elmerülj a jelen pillanatban. \n\n🪷\nKözel a természethez – közel önmagadhozA Samsara a nógrádi dombok között\, egy különleges buddhista szentélyben vár. A természet közelsége\, a nyugalom és a szentély atmoszférája ideális teret teremt a testi-lelki feltöltődésre — mindössze egy órányira Budapesttől.
URL:https://hivibes.hu/esemeny/samsara-hangtalas-hangfurdo-2025-december-13/
LOCATION:Samsara szentély\, Petőfi utca 41\, Garáb\, 3067\, Hungary
CATEGORIES:Garábi hangfürdők
ATTACH;FMTTYPE=image/jpeg:https://hivibes.hu/wp-content/uploads/2025/02/samsara-csoportos-hangfurdo-garabon-scaled.jpg
END:VEVENT
BEGIN:VEVENT
DTSTART;TZID=UTC:20251217T100000
DTEND;TZID=UTC:20251217T110000
DTSTAMP:20260419T130516
CREATED:20251211T101049Z
LAST-MODIFIED:20251211T101533Z
UID:10000031-1765965600-1765969200@hivibes.hu
SUMMARY:Garáb\, óriásgongos\, kristálytálas hangutazás a Shambala szentélyben
DESCRIPTION:Ez az esemény a Shambala gongos táltosdobos hangutazás sorozat része\nHa a gongok és a sámándobok átalakító élményére vágysz\, akkor vegyél részt ezen a négykezes\, igazi térhatású; rezgésekkel körbeölelő hangfürdőn. Olyan eszközöket szólaltatunk meg\, amelyek sehol máshol nem találhatók\, és különösen nem egy térben. Itt a hangok valóban körbevesznek. A Grotta Sonora legnagyobb és talán legszebb gongja is meg fog szólalni\, tibeti hangtálak\, kristály hangtálak\, gongdobok\, óceándob\, esőoszlop\, és egy másik különleges energiájú óriás táltosdob társaságában.\nKetten egyidőben sok csodás hangot és rezgést tudunk létrehozni a térben\, hogy valóban körülöleljenek a hangok és megmártózz az univerzum rezgéseiben. \nGyere el hozzánk egy felejthetetlen hangutazásra\, ahol a hangok és rezgések harmóniája elrepít a mindennapokból. Élvezd a Shambala hangutazás minden pillanatát\, és töltsd fel tested-lelked energiával. \n 
URL:https://hivibes.hu/esemeny/garab-oriasgongos-kristalytalas-hangutazas-a-shambala-szentelyben-2025-12-17/
LOCATION:Samsara szentély\, Petőfi utca 41\, Garáb\, 3067\, Hungary
CATEGORIES:Gongos-táltosdobos hangutazás
ATTACH;FMTTYPE=image/jpeg:https://hivibes.hu/wp-content/uploads/2025/10/shambala-szentely-belso-ter.jpg
END:VEVENT
BEGIN:VEVENT
DTSTART;TZID=UTC:20251217T100000
DTEND;TZID=UTC:20251217T110000
DTSTAMP:20260419T130516
CREATED:20251211T124443Z
LAST-MODIFIED:20260107T081531Z
UID:10000033-1765965600-1765969200@hivibes.hu
SUMMARY:Garáb\, óriásgongos\, kristálytálas hangutazás a Shambala szentélyben
DESCRIPTION:Ez az esemény a Shambala gongos táltosdobos hangutazás sorozat része\nHa a gongok és a sámándobok átalakító élményére vágysz\, akkor vegyél részt ezen a négykezes\, igazi térhatású; rezgésekkel körbeölelő hangfürdőn. Olyan eszközöket szólaltatunk meg\, amelyek sehol máshol nem találhatók\, és különösen nem egy térben. Itt a hangok valóban körbevesznek. A Grotta Sonora legnagyobb és talán legszebb gongja is meg fog szólalni\, tibeti hangtálak\, kristály hangtálak\, gongdobok\, óceándob\, esőoszlop\, és egy másik különleges energiájú óriás táltosdob társaságában.\nKetten egyidőben sok csodás hangot és rezgést tudunk létrehozni a térben\, hogy valóban körülöleljenek a hangok és megmártózz az univerzum rezgéseiben. \nGyere el hozzánk egy felejthetetlen hangutazásra\, ahol a hangok és rezgések harmóniája elrepít a mindennapokból. Élvezd a Shambala hangutazás minden pillanatát\, és töltsd fel tested-lelked energiával. \n 
URL:https://hivibes.hu/esemeny/garab-oriasgongos-kristalytalas-hangutazas-a-shambala-szentelyben-5/
LOCATION:Samsara szentély\, Petőfi utca 41\, Garáb\, 3067\, Hungary
CATEGORIES:Gongos-táltosdobos hangutazás
ATTACH;FMTTYPE=image/jpeg:https://hivibes.hu/wp-content/uploads/2025/10/shambala-szentely-belso-ter.jpg
END:VEVENT
BEGIN:VEVENT
DTSTART;TZID=UTC:20251217T100000
DTEND;TZID=UTC:20251217T140000
DTSTAMP:20260419T130516
CREATED:20251211T123240Z
LAST-MODIFIED:20251211T123240Z
UID:10000032-1765965600-1765980000@hivibes.hu
SUMMARY:Duál hangfürdő (Samsara és Shambala egymás után\, közte idegenvezetés is beiktatható)
DESCRIPTION:Ez az esemény a Duál hangfürdők sorozat része\n🜂\nKét szentély\, egy megtapasztalás A duál hangfürdő különlegessége\, hogy egyszerre kapcsolja össze a Samsara és a Shambala szentély energiáit.Mindkét tér önmagában is teljes\, de amikor egymásra hangolódnak\, az élmény hatványozottá válik. A hangok és rezgések olyan mély szinteket érintenek\, ahol a test\, a lélek és a tudat egyaránt újrahangolódik. \n\n🜄\nA hangok egységeA Samsara óriás hangtáljainak mély\, földelő rezgései és a Shambala gongjainak\, kristálytálainak fényes hangjai egy különleges ívet rajzolnak a két tér között.Az első hangfürdő elindítja a folyamatot\, a második pedig kiteljesíti azt — mintha maga az univerzum zengene össze benned. \n\n🜃\nEgy nap\, ami minden érzékszervedet átöleliA duál hangfürdőkön nemcsak a hangélmény lesz teljes: a két szentély látványa\, atmoszférája\, és a kettő közti séta is része a megélésnek.Ha a két hangfürdő között kertlátogatást is teszel\, egy valódi testet\, lelket és elmét tápláló napban lesz részed.
URL:https://hivibes.hu/esemeny/dual-hangfurdo-2025-12-17/
CATEGORIES:Duál hangfürdő
ATTACH;FMTTYPE=image/jpeg:https://hivibes.hu/wp-content/uploads/2025/11/dual-hangfurdo-garab.jpg
END:VEVENT
BEGIN:VEVENT
DTSTART;TZID=UTC:20251217T123000
DTEND;TZID=UTC:20251217T140000
DTSTAMP:20260419T130516
CREATED:20251211T124655Z
LAST-MODIFIED:20251211T130705Z
UID:10000034-1765974600-1765980000@hivibes.hu
SUMMARY:Csoportos Samsara hangfürdő a világ legnagyobb hangtáljával
DESCRIPTION:Ez az esemény a Samsara hangtálas hangfürdők sorozat része\n🕉️\nA világ legnagyobb hangtáljaA Samsara hangtál közel 2\,5 méter átmérőjű\, és a világ jelenlegi legnagyobb hangtáljaként egyedülálló élményt kínál. Mély\, földelő rezgései átjárják a testet\, támogatva a sejtszintű regenerációt és az energetikai egyensúlyt. \n\n🌿\nEgyedülálló élmény GarábonA hangtálas hangfürdő nemcsak relaxáció\, hanem tudatos rezgésterápia is. A versenyharangok\, kiegészítő hangszerek és a csend együttese segít\, hogy lelassulj\, újrahangold magad\, és elmerülj a jelen pillanatban. \n\n🪷\nKözel a természethez – közel önmagadhozA Samsara a nógrádi dombok között\, egy különleges buddhista szentélyben vár. A természet közelsége\, a nyugalom és a szentély atmoszférája ideális teret teremt a testi-lelki feltöltődésre — mindössze egy órányira Budapesttől.
URL:https://hivibes.hu/esemeny/csoportos-samsara-hangfurdo-a-vilag-legnagyobb-hangtaljaval-2025-12-17/
LOCATION:Samsara szentély\, Petőfi utca 41\, Garáb\, 3067\, Hungary
CATEGORIES:Garábi hangfürdők
ATTACH;FMTTYPE=image/jpeg:https://hivibes.hu/wp-content/uploads/2025/02/samsara-csoportos-hangfurdo-garabon-scaled.jpg
END:VEVENT
BEGIN:VEVENT
DTSTART;TZID=UTC:20251217T140000
DTEND;TZID=UTC:20251217T150000
DTSTAMP:20260419T130516
CREATED:20251211T125108Z
LAST-MODIFIED:20251211T130719Z
UID:10000035-1765980000-1765983600@hivibes.hu
SUMMARY:Zártra foglalható Samsara hangfürdő a világ legnagyobb hangtáljával
DESCRIPTION:Ez az esemény a Samsara hangtálas hangfürdők sorozat része\n🕉️\nA világ legnagyobb hangtáljaA Samsara hangtál közel 2\,5 méter átmérőjű\, és a világ jelenlegi legnagyobb hangtáljaként egyedülálló élményt kínál. Mély\, földelő rezgései átjárják a testet\, támogatva a sejtszintű regenerációt és az energetikai egyensúlyt. \n\n🌿\nEgyedülálló élmény GarábonA hangtálas hangfürdő nemcsak relaxáció\, hanem tudatos rezgésterápia is. A versenyharangok\, kiegészítő hangszerek és a csend együttese segít\, hogy lelassulj\, újrahangold magad\, és elmerülj a jelen pillanatban. \n\n🪷\nKözel a természethez – közel önmagadhozA Samsara a nógrádi dombok között\, egy különleges buddhista szentélyben vár. A természet közelsége\, a nyugalom és a szentély atmoszférája ideális teret teremt a testi-lelki feltöltődésre — mindössze egy órányira Budapesttől.
URL:https://hivibes.hu/esemeny/zartra-foglalhato-samsara-hangfurdo-a-vilag-legnagyobb-hangtaljaval-4/
LOCATION:Samsara szentély\, Petőfi utca 41\, Garáb\, 3067\, Hungary
CATEGORIES:Garábi hangfürdők
ATTACH;FMTTYPE=image/jpeg:https://hivibes.hu/wp-content/uploads/2025/10/samsara-hangfurdo-beleulhetsz-a-hangtalba.jpg
END:VEVENT
BEGIN:VEVENT
DTSTART;TZID=UTC:20251219T130000
DTEND;TZID=UTC:20251219T140000
DTSTAMP:20260419T130516
CREATED:20251211T131210Z
LAST-MODIFIED:20251211T133114Z
UID:10000036-1766149200-1766152800@hivibes.hu
SUMMARY:Shanka hangfürdő Budapesten
DESCRIPTION:
URL:https://hivibes.hu/esemeny/shanka-hangfurdo-budapesten/
CATEGORIES:Budapesti hangfürdők
ATTACH;FMTTYPE=image/jpeg:https://hivibes.hu/wp-content/uploads/2025/03/shanka-hangfurdo-scaled.jpg
END:VEVENT
END:VCALENDAR